BEGIN:VCALENDAR
VERSION:2.0
PRODID:-//RIGHTHERE//CALENDARIZE IT V3.2//EN
BEGIN:VTIMEZONE
TZID:Europe/Paris
X-MICROSOFT-CDO-TZID:3
BEGIN:STANDARD
DTSTART:20251026T010000
TZOFFSETFROM:+0200
TZOFFSETTO:+0100
TZNAME:CET
END:STANDARD
BEGIN:DAYLIGHT
DTSTART:20260329T010000
TZOFFSETFROM:+0100
TZOFFSETTO:+0200
TZNAME:CEST
END:DAYLIGHT
BEGIN:STANDARD
DTSTART:20261025T010000
TZOFFSETFROM:+0200
TZOFFSETTO:+0100
TZNAME:CET
END:STANDARD
END:VTIMEZONE
BEGIN:VEVENT
UID:17829-events@skoolab.fr
DTSTART;VALUE=DATE:20191127
DTEND;VALUE=DATE:20191201
DTSTAMP;TZID=Europe/Paris:20191126T132214
SUMMARY:Stage de codage
URL:https://skoolab.fr/events/stage-de-codage/
END:VEVENT
END:VCALENDAR